BEGIN:VCALENDAR
PRODID:-//github.com/rianjs/ical.net//NONSGML ical.net 4.0//EN
VERSION:2.0
BEGIN:VTIMEZONE
TZID:America/Toronto
X-LIC-LOCATION:America/Toronto
END:VTIMEZONE
BEGIN:VEVENT
DESCRIPTION:Sam Kirshner | School of Information Systems and Technology Ma
 nagement\, University of New South Wales
DTEND;TZID=America/Toronto:20260428T143000
DTSTAMP:20260421T021709Z
DTSTART;TZID=America/Toronto:20260428T130000
LOCATION:Ivey School of Business - room 2120
SEQUENCE:0
SUMMARY:Sam Kirshner | School of Information Systems and Technology Manage
 ment\, University of New South Wales
UID:5828fb30-9c63-423d-9b6d-2da90b039612
END:VEVENT
END:VCALENDAR




